BEGIN:VCALENDAR
VERSION:2.0
PRODID:-//Greater Shepparton Business Network - ECPv5.0.3.1//NONSGML v1.0//EN
CALSCALE:GREGORIAN
METHOD:PUBLISH
X-WR-CALNAME:Greater Shepparton Business Network
X-ORIGINAL-URL:https://www.sheppartonchamber.com.au
X-WR-CALDESC:Events for Greater Shepparton Business Network
BEGIN:VTIMEZONE
TZID:Australia/Melbourne
BEGIN:STANDARD
TZOFFSETFROM:+1100
TZOFFSETTO:+1000
TZNAME:AEST
DTSTART:20220402T160000
END:STANDARD
BEGIN:DAYLIGHT
TZOFFSETFROM:+1000
TZOFFSETTO:+1100
TZNAME:AEDT
DTSTART:20221001T160000
END:DAYLIGHT
END:VTIMEZONE
BEGIN:VEVENT
DTSTART;TZID=Australia/Melbourne:20221209T183000
DTEND;TZID=Australia/Melbourne:20221209T230000
DTSTAMP:20260422T050555
CREATED:20221028T040551Z
LAST-MODIFIED:20221028T040551Z
UID:2072-1670610600-1670626800@www.sheppartonchamber.com.au
SUMMARY:WHITE KING-PENTAL BUSINESS EXCELLENCE AWARDS RESCHEDULED - NEW DATE AND VENUE
DESCRIPTION:WHITE KING-PENTAL BUSINESS EXCELLENCE AWARDS RESCHEDULED – NEW DATE AND VENUE \nWe are excited to announce the 2022 White King-Pental Business Excellence Awards Gala Dinner Presentation planned for 28th October has been rescheduled for Friday 9th December.  Due to Riverlinks Eastbank sustaining major damage during the recent floods\, this event will now be held at the GV Hotel Cabaret Room\, 223 High Street Shepparton with doors opening at 6:30pm. \nIf you have already purchased tickets\, there is no need to do anything as your details will be transferred to the rescheduled event and new tickets sent to your inbox via Riverlinks on 14th November\, if the new date does not suit yourself or a guest\, could you please make contact with Riverlinks on (03) 58329511 to make arrangements for a refund no later than 5pm 11th November\, to allow these tickets to go back on sale. \nTickets have now returned to sale through Riverlinks with Table bookings more than welcome\, after all who wouldn’t want their support crew to be there to cheer finalists on!  Ticket Sales will close 5pm 28th November. \nWe look forward to coming together to celebrating in style our special milestone 25th anniversary\, the amazing diversity and resilience of business within the Greater Shepparton community and recognising the Business Excellence finalists and unveiling this years winners. \n  \nWHITE KING-PENTAL BUSINESS EXCELLENCE AWARDS GALA DINNER \nJoin us to celebrate in style our special milestone 25th year anniversary of the Shepparton Chamber of Commerce & Industry Business Excellence Awards\, a night to showcase this year’s finalists and unveil the 2022 category winners.  Enjoy a celebratory drink on arrival\, three course meal with wine or soft drink (additional drinks at bar prices) as award nominees\, friends and the business community gather to recognise outstanding retail and industry achievements and services in our region. \nHosted by Bruce Roberts \nDuring the evening we will be entertained by Sunny Side Up \nTickets can be purchased through Riverlinks or by phone: 03 5832 9511. Ticket Sales will close 5pm 28th November. \nTickets for Chamber Members are $110 and Non Members $120 (Riverlinks ticketing fees will apply) \nGuests with special dietary needs will be catered for accordingly. (Details of your dietary needs will be collected at time of ticket purchase) \nTable bookings of 10 available.\n  \n
URL:https://www.sheppartonchamber.com.au/events/white-king-pental-business-excellence-awards-rescheduled-new-date-and-venue/
ORGANIZER;CN="Greater%20Shepparton%20Business%20Network":MAILTO:admin@gsbn.net.au
END:VEVENT
END:VCALENDAR