BEGIN:VCALENDAR
VERSION:2.0
PRODID:-//Greater Shepparton Business Network - ECPv5.0.3.1//NONSGML v1.0//EN
CALSCALE:GREGORIAN
METHOD:PUBLISH
X-WR-CALNAME:Greater Shepparton Business Network
X-ORIGINAL-URL:https://www.sheppartonchamber.com.au
X-WR-CALDESC:Events for Greater Shepparton Business Network
BEGIN:VTIMEZONE
TZID:Australia/Melbourne
BEGIN:STANDARD
TZOFFSETFROM:+1100
TZOFFSETTO:+1000
TZNAME:AEST
DTSTART:20210403T160000
END:STANDARD
BEGIN:DAYLIGHT
TZOFFSETFROM:+1000
TZOFFSETTO:+1100
TZNAME:AEDT
DTSTART:20211002T160000
END:DAYLIGHT
END:VTIMEZONE
BEGIN:VEVENT
DTSTART;TZID=Australia/Melbourne:20210712T180000
DTEND;TZID=Australia/Melbourne:20210712T200000
DTSTAMP:20260422T071629
CREATED:20210705T042507Z
LAST-MODIFIED:20210705T042507Z
UID:880-1626112800-1626120000@www.sheppartonchamber.com.au
SUMMARY:The Business Improvement Guy comes to Shepp on 12 July 2021
DESCRIPTION:Dave will share his practical business experience\, stories\, ideas and tips to help you make the most of every opportunity.  He has shown business owners how to energise their team\, attract & delight more customers and significantly increase their sales results all year round. \nDave is a walking library of “hands-on” practical business experiences\, Dave inspires audiences with his funny & memorable stories\, passion and enthusiasm. \nIn 15 years\, he grew a multi-business hospitality & tourism group in Victoria\, Australia employing over 200 staff and doing more than 2000 weddings & events. \n  \n \nIn 2001\, David successfully sold his businesses and has since been helping other businesses get better results. He has shown business owners how to energise their team\, attract & delight more customers and significantly increase their sales results all year round. \nDave has grown many SME businesses\, coached business leaders & teams and has assisted many Associations & SME groups. He has been responsible for multi-million dollar sales turnarounds and helped several businesses grow big enough to get listed on the ASX. \nAs a best-selling author and expert\, David has contributed to books on Sales & Small Business and most recently The VIP Principle – about the long-term business benefits of using systems and continuous improvement. \nDave is a highly entertaining speaker and has been performing in front of an audience for over 20 years. As an experienced International Keynote Speaker he has presented to over 750 Audiences in 10 different Countries. \nWe invite you to come along and be inspired by Dave .  Tickets are available HERE >> www.eventbrite.com.au/e/shepparton-chamber-of-commerce-industry-presents-dave-staughton-tickets-161991503949 \nEVENT\nShepparton Club Inc\nMonday 12th July\, 2021\nat 5:30pm for 6:00 PM\nFinger Food served – drinks available from the bar. \nwww.eventbrite.com.au/e/shepparton-chamber-of-commerce-industry-presents-dave-staughton-tickets-161991503949 \n
URL:https://www.sheppartonchamber.com.au/events/the-business-improvement-guy-comes-to-shepp-on-12-july-2021/
CATEGORIES:Chamber
ORGANIZER;CN="Greater%20Shepparton%20Business%20Network":MAILTO:admin@gsbn.net.au
END:VEVENT
END:VCALENDAR