BEGIN:VCALENDAR
VERSION:2.0
PRODID:-//Greater Shepparton Business Network - ECPv5.0.3.1//NONSGML v1.0//EN
CALSCALE:GREGORIAN
METHOD:PUBLISH
X-WR-CALNAME:Greater Shepparton Business Network
X-ORIGINAL-URL:https://www.sheppartonchamber.com.au
X-WR-CALDESC:Events for Greater Shepparton Business Network
BEGIN:VTIMEZONE
TZID:Australia/Melbourne
BEGIN:STANDARD
TZOFFSETFROM:+1100
TZOFFSETTO:+1000
TZNAME:AEST
DTSTART:20210403T160000
END:STANDARD
BEGIN:DAYLIGHT
TZOFFSETFROM:+1000
TZOFFSETTO:+1100
TZNAME:AEDT
DTSTART:20211002T160000
END:DAYLIGHT
END:VTIMEZONE
BEGIN:VEVENT
DTSTART;TZID=Australia/Melbourne:20210413T090000
DTEND;TZID=Australia/Melbourne:20210413T100000
DTSTAMP:20260422T071130
CREATED:20210324T231018Z
LAST-MODIFIED:20210324T233246Z
UID:836-1618304400-1618308000@www.sheppartonchamber.com.au
SUMMARY:Regional Update with the Hon Wendy Lovell\, MP Member for Northern Victoria Region
DESCRIPTION:We are hosting the Hon Wendy Lovell\, MP for a Regional Update on what is happening around the Electorate\, the challenges and the wins.    Also\, information on how we fared as a region during 2020\, and how our resilience has placed us well with renewed recognition of the regions. \n  \nThe event will be via zoom – on Tuesday 13th April\, 2021 at 9am. \n  \nShepparton Chamber Members have been sent a link to join in this event. \n
URL:https://www.sheppartonchamber.com.au/events/regional-update-with-the-hon-wendy-lovell-mp-member-for-northern-victoria-region/
CATEGORIES:Chamber
ORGANIZER;CN="Greater%20Shepparton%20Business%20Network":MAILTO:admin@gsbn.net.au
END:VEVENT
END:VCALENDAR