BEGIN:VCALENDAR
VERSION:2.0
PRODID:-//Greater Shepparton Business Network - ECPv5.0.3.1//NONSGML v1.0//EN
CALSCALE:GREGORIAN
METHOD:PUBLISH
X-WR-CALNAME:Greater Shepparton Business Network
X-ORIGINAL-URL:https://www.sheppartonchamber.com.au
X-WR-CALDESC:Events for Greater Shepparton Business Network
BEGIN:VTIMEZONE
TZID:Australia/Melbourne
BEGIN:STANDARD
TZOFFSETFROM:+1100
TZOFFSETTO:+1000
TZNAME:AEST
DTSTART:20230401T160000
END:STANDARD
BEGIN:DAYLIGHT
TZOFFSETFROM:+1000
TZOFFSETTO:+1100
TZNAME:AEDT
DTSTART:20230930T160000
END:DAYLIGHT
END:VTIMEZONE
BEGIN:VEVENT
DTSTART;TZID=Australia/Melbourne:20230509T173000
DTEND;TZID=Australia/Melbourne:20230509T193000
DTSTAMP:20260422T050434
CREATED:20230426T225000Z
LAST-MODIFIED:20230724T011857Z
UID:2625-1683653400-1683660600@www.sheppartonchamber.com.au
SUMMARY:May After 5 Networking Event hosted by FOOTT
DESCRIPTION: \n  \nThe Shepparton Chamber of Commerce and Industry would like to invite you to attend the first of our new look After 5 Networking Events hosted by FOOTT\, which will incorporate the launch of the Shepparton Chamber of Commerce’s New Direction and New Relationships!  \nPeter\, Jenny and Zane Foott\, along with the FOOTT team are excited to showcase their brand new facility to the Greater Shepparton Business Community and look forward to sharing their business journey story and exciting future plans with you and warmly extend an invitation to all Chamber Members and guests. \nRegistration is now open for the May After 5 Networking event hosted by FOOTT.  Register today! \nDate:      Tuesday 9th May \nTime:      5:30pm – 7:30pm \nWhere:   24 Carroll Road\, Shepparton East \nRSVP:    3pm Friday 5th May \nAbout FOOTT \nFOOTT Waste Solutions is a regionally based waste & recycling company with the vision to expand their ‘Foottprint’ as the absolute best waste systems provider. \nCommencing in Shepparton in 1992\, Peter and Jenny Foott\, along with son Zane\, have are proud to have recently completed and moved into a modern office and depot facility on a 5 hectare site at Shepparton East. \nUnder the leadership and vision of Peter Foott\, FOOTT has invested in research\, developed new processes\, explored\, and invested in new technology\, equipment and infrastructure. This has enabled the business expansion and the ability to divert more recyclable resources away from landfill. \nFOOTT’s strength is in collaborating with businesses and individuals within the environmental and waste sector. Their commitment to improving the environment and waste diversion processes has strengthened their reputation within the Industry as a high level\, knowledgeable company that is keenly sought after to collaborate. \nAs a community minded and family owned business\, FOOTT remains passionate and driven to continually innovate to lessen the ‘FOOTTprint’ we are leaving on our planet for generations to come. The time is NOW\, and FOOTT are committed to the challenge. \n  \nRegistration is essential. \nDrinks and nibbles provided. \nDoors open 5.30pm. \nRegister for this event \n
URL:https://www.sheppartonchamber.com.au/events/may-after-5-networking-event-hosted-by-foott-waste-solutions/
LOCATION:FOOTT\, 24 Carroll Road\, Shepparton East\, Victoria\, Australia
CATEGORIES:Chamber,Networking
ORGANIZER;CN="Greater%20Shepparton%20Business%20Network":MAILTO:admin@gsbn.net.au
GEO:-36.3869634;145.4351341
X-APPLE-STRUCTURED-LOCATION;VALUE=URI;X-ADDRESS=FOOTT 24 Carroll Road Shepparton East Victoria Australia;X-APPLE-RADIUS=500;X-TITLE=24 Carroll Road:geo:145.4351341,-36.3869634
END:VEVENT
END:VCALENDAR