BEGIN:VCALENDAR
VERSION:2.0
PRODID:-//Greater Shepparton Business Network - ECPv5.0.3.1//NONSGML v1.0//EN
CALSCALE:GREGORIAN
METHOD:PUBLISH
X-WR-CALNAME:Greater Shepparton Business Network
X-ORIGINAL-URL:https://www.sheppartonchamber.com.au
X-WR-CALDESC:Events for Greater Shepparton Business Network
BEGIN:VTIMEZONE
TZID:Australia/Melbourne
BEGIN:STANDARD
TZOFFSETFROM:+1100
TZOFFSETTO:+1000
TZNAME:AEST
DTSTART:20250405T160000
END:STANDARD
BEGIN:DAYLIGHT
TZOFFSETFROM:+1000
TZOFFSETTO:+1100
TZNAME:AEDT
DTSTART:20251004T160000
END:DAYLIGHT
END:VTIMEZONE
BEGIN:VEVENT
DTSTART;TZID=Australia/Melbourne:20250625T173000
DTEND;TZID=Australia/Melbourne:20250625T193000
DTSTAMP:20260422T013410
CREATED:20241203T054837Z
LAST-MODIFIED:20250528T051116Z
UID:4687-1750872600-1750879800@www.sheppartonchamber.com.au
SUMMARY:June After 5 Networking Event Hosted by Trelly's Outdoor
DESCRIPTION:Trelly’s Outdoor has been a trusted name in the Goulburn Valley for decades\, proudly supporting the region’s passion for fishing\, hunting\, camping\, and outdoor adventure. Known for their expert advice\, wide range of premium outdoor gear\, and strong community focus\, Trelly’s has built a reputation as a go-to destination for both seasoned adventurers and weekend explorers alike. \nTrelly’s are excited to host the June After 5 Networking Event at their Shepparton store\, where they will showcase their extensive range\, share what’s new\, and connect with fellow local businesses and community leaders. Join us for a casual and engaging evening surrounded by all things outdoors. \nEvent Details: \nDate:  Wednesday 25 June 2025 \nTime: 5:30pm – 7:30pm \nLocation:  209 Corio Street\, Shepparton \nImportant Note:  \nRegistration is essential\, and attendance is limited to 2 tickets per business. Please ensure you select the correct ticket type when registering for this event. This helps us ensure accurate registration. Our Admin Team will follow up on any discrepancies to ensure everything is in order. \nLight refreshments will be provided. \nPlease RSVP by 5pm Friday 20 June 2025. \n
URL:https://www.sheppartonchamber.com.au/events/june-after-5-networking-event/
LOCATION:Victoria\, Australia
CATEGORIES:Networking
ATTACH;FMTTYPE=image/jpeg:https://www.sheppartonchamber.com.au/wp-content/uploads/2024/12/Trellys-Fishing-Hunting-World.jpg
ORGANIZER;CN="Greater%20Shepparton%20Business%20Network":MAILTO:admin@gsbn.net.au
END:VEVENT
END:VCALENDAR