BEGIN:VCALENDAR
VERSION:2.0
PRODID:-//Greater Shepparton Business Network - ECPv5.0.3.1//NONSGML v1.0//EN
CALSCALE:GREGORIAN
METHOD:PUBLISH
X-WR-CALNAME:Greater Shepparton Business Network
X-ORIGINAL-URL:https://www.sheppartonchamber.com.au
X-WR-CALDESC:Events for Greater Shepparton Business Network
BEGIN:VTIMEZONE
TZID:Australia/Melbourne
BEGIN:STANDARD
TZOFFSETFROM:+1100
TZOFFSETTO:+1000
TZNAME:AEST
DTSTART:20250405T160000
END:STANDARD
BEGIN:DAYLIGHT
TZOFFSETFROM:+1000
TZOFFSETTO:+1100
TZNAME:AEDT
DTSTART:20251004T160000
END:DAYLIGHT
END:VTIMEZONE
BEGIN:VEVENT
DTSTART;TZID=Australia/Melbourne:20250716T173000
DTEND;TZID=Australia/Melbourne:20250716T193000
DTSTAMP:20260422T013414
CREATED:20241203T054946Z
LAST-MODIFIED:20250701T004416Z
UID:4690-1752687000-1752694200@www.sheppartonchamber.com.au
SUMMARY:July After 5 Networking Event Hosted by Stephen's Jewellers
DESCRIPTION:Join us for our July After 5 Networking Event\, proudly hosted by Stephens Jewellers\, a longstanding Platinum Member of GSBN and one of Greater Shepparton’s most trusted and recognised local businesses. \nStephens Jewellers proudly celebrates 31 years of business in Greater Shepparton—three decades of creating lasting memories and meaningful connections through bespoke\, handcrafted jewellery. \n“We are deeply grateful for the community support that has shaped our journey and giving back is a responsibility we take very seriously. As long-term patrons of the Pink Ribbon fundraiser and now proud supporters of the GV Health Foundation’s Ladies Who Lunch event\, Stephens Jewellers remains committed to causes that uplift our region. We also strongly support and believe in the value of local sport\, with our long-term involvement in local netball a reflection of this commitment. \nWe’re thrilled to have People Supporting People – a valued local organisation\, and passionate supporter of people in need – catering this special occasion. \nOur After 5 Networking event will be held at the new Shepparton Foodshare facility in Mooroopna\, another vital organisation dedicated to supporting the most vulnerable in our community. \nPlease join us to celebrate\, connect and learn about our business journey\, one we are so proud of\, and can’t wait to share with you at this special event.” \nEvent Details: \nDate:  Wednesday 16 July 2025 \nTime: 5:30pm – 7:30pm \nLocation:  7 Doonan Street\, Mooroopna (Cnr Doonan and Camp Street) – please note that guests will be required to park on surrounding streets as there is NO on-site parking available. \nImportant Note: \nRegistration is essential\, and attendance is limited to 2 tickets per business. Please ensure you select the correct ticket type when registering for this event. This helps us ensure accurate registration. Our Admin Team will follow up on any discrepancies to ensure everything is in order. \nLight refreshments will be provided. \nPlease RSVP by 5pm Friday 11 July 2025. \n
URL:https://www.sheppartonchamber.com.au/events/july-after-5-networking-event/
LOCATION:Victoria\, Australia
CATEGORIES:Networking
ATTACH;FMTTYPE=image/png:https://www.sheppartonchamber.com.au/wp-content/uploads/2024/12/StephensLogoBlack.png
ORGANIZER;CN="Greater%20Shepparton%20Business%20Network":MAILTO:admin@gsbn.net.au
END:VEVENT
END:VCALENDAR