BEGIN:VCALENDAR
VERSION:2.0
PRODID:-//Greater Shepparton Business Network - ECPv5.0.3.1//NONSGML v1.0//EN
CALSCALE:GREGORIAN
METHOD:PUBLISH
X-WR-CALNAME:Greater Shepparton Business Network
X-ORIGINAL-URL:https://www.sheppartonchamber.com.au
X-WR-CALDESC:Events for Greater Shepparton Business Network
BEGIN:VTIMEZONE
TZID:Australia/Melbourne
BEGIN:STANDARD
TZOFFSETFROM:+1100
TZOFFSETTO:+1000
TZNAME:AEST
DTSTART:20240406T160000
END:STANDARD
BEGIN:DAYLIGHT
TZOFFSETFROM:+1000
TZOFFSETTO:+1100
TZNAME:AEDT
DTSTART:20241005T160000
END:DAYLIGHT
END:VTIMEZONE
BEGIN:VEVENT
DTSTART;TZID=Australia/Melbourne:20241025T183000
DTEND;TZID=Australia/Melbourne:20241025T230000
DTSTAMP:20260425T214549
CREATED:20240809T003058Z
LAST-MODIFIED:20241002T050102Z
UID:4296-1729881000-1729897200@www.sheppartonchamber.com.au
SUMMARY:Greater Shepparton's 2024 SPC Business Excellence Awards Gala Dinner
DESCRIPTION:Celebrate Excellence at the 2024 Greater Shepparton SPC Business Excellence Awards Gala Dinner\nJoin us for an unforgettable evening as we come together to showcase and celebrate the remarkable diversity of businesses within the Greater Shepparton community at the 2024 Greater Shepparton SPC Business Excellence Awards Gala Dinner. This prestigious event is your opportunity to be part of a night dedicated to recognising and honouring the exceptional contributions made by local businesses. \nThe Business Excellence Awards highlight the achievements that drive our local economy\, inspire continued success\, and foster growth within our vibrant business community. Together\, we are shaping the future of business in Greater Shepparton. \nEvent Details:\n📅 Date: Friday\, 25 October 2024\n📍 Venue: Eastbank\, 70 Welsford Street\, Shepparton \nThroughout the evening\, we will proudly announce the winners across 14 categories\, including: \n– Excellence in Business – Professional Services\, Trade Services\, Retail Service\n– Excellence in Customer Service – Retail/Hospitality Services\, Professional Services\, Trade Services\n– Excellence in Innovation\n– Excellence in Export Market Development\n– Excellence in Food & Agribusiness\n– Emerging & Micro Business of the Year\n– Best Marketing/Advertising Campaign\n– Apprentice/Trainee of the Year\n– Visitor Experience of the Year\n– Young Professional of the Year \nIn addition to these prestigious awards\, one standout business will be inducted into the Hall of Fame\, celebrating their long-lasting impact and dedication to the Greater Shepparton region. \nDon’t miss this chance to network\, celebrate\, and be inspired by the success stories that make our community thrive. \nTickets are now available through Riverlinks\, purchase your tickets here – Greater Shepparton’s – 2024 SPC Business Excellence Awards Gala Dinner — Presented by GSBN – Riverlinks (riverlinksvenues.com.au) \nBe sure to secure your tickets early as they are sure to sell out and join us in celebrating the excellence that drives our local economy. \n \n
URL:https://www.sheppartonchamber.com.au/events/greater-sheppartons-2024-spc-business-excellence-awards-gala-dinner/
LOCATION:Riverlinks Eastbank Shepparton\, 70 Welsford St\, Shepparton\, VIC\, 3630\, Australia
ATTACH;FMTTYPE=image/png:https://www.sheppartonchamber.com.au/wp-content/uploads/2024/08/New-business-awards-logo.png
ORGANIZER;CN="Greater%20Shepparton%20Business%20Network":MAILTO:admin@gsbn.net.au
GEO:-36.3771419;145.39838
X-APPLE-STRUCTURED-LOCATION;VALUE=URI;X-ADDRESS=Riverlinks Eastbank Shepparton 70 Welsford St Shepparton VIC 3630 Australia;X-APPLE-RADIUS=500;X-TITLE=70 Welsford St:geo:145.39838,-36.3771419
END:VEVENT
END:VCALENDAR