BEGIN:VCALENDAR
VERSION:2.0
PRODID:-//Greater Shepparton Business Network - ECPv5.0.3.1//NONSGML v1.0//EN
CALSCALE:GREGORIAN
METHOD:PUBLISH
X-WR-CALNAME:Greater Shepparton Business Network
X-ORIGINAL-URL:https://www.sheppartonchamber.com.au
X-WR-CALDESC:Events for Greater Shepparton Business Network
BEGIN:VTIMEZONE
TZID:Australia/Melbourne
BEGIN:STANDARD
TZOFFSETFROM:+1100
TZOFFSETTO:+1000
TZNAME:AEST
DTSTART:20250405T160000
END:STANDARD
BEGIN:DAYLIGHT
TZOFFSETFROM:+1000
TZOFFSETTO:+1100
TZNAME:AEDT
DTSTART:20251004T160000
END:DAYLIGHT
END:VTIMEZONE
BEGIN:VEVENT
DTSTART;TZID=Australia/Melbourne:20250707T171500
DTEND;TZID=Australia/Melbourne:20250707T193000
DTSTAMP:20260421T233832
CREATED:20250618T021143Z
LAST-MODIFIED:20250701T052652Z
UID:5275-1751908500-1751916600@www.sheppartonchamber.com.au
SUMMARY:Greater Shepparton Business Festival Launch Event
DESCRIPTION:Greater Shepparton Business Network (GSBN) is thrilled to join with Greater Shepparton City Council to launch their upcoming event series\, the Greater Shepparton Business Festival. \nHeld throughout August\, these events cover a broad range of themes important to the business and broader communities of the Greater Shepparton region. \nTo celebrate the launch of this event\, GSBN will host an After 5 Networking Event on the evening of Monday 7th July at GSBN Member venue\, THE AUSSIE HOTEL. Please accept this invitation to the event where we will learn about what is on offer in the 2025 program\, and to be given priority access to sign up\, and get your name down for some sessions before you even leave for home. \nFinger food will be offered\, plus a drink on arrival for all guests. \nHeld from 5:15pm\, this event will kick off a wonderful festival for our business community\, on behalf of Greater Shepparton City Council and GSBN we really hope to see you there. \nEvent Details: \nDate:  Monday 7 July 2025 \nTime: 5:15pm – 7:30pm \nLocation:  73 Fryers Street\, Shepparton \nImportant Note: \nRegistration is essential\, and attendance is limited to 2 tickets per business. Please ensure you select the correct ticket type when registering for this event. This helps us ensure accurate registration. Our Admin Team will follow up on any discrepancies to ensure everything is in order. \nLight refreshments will be provided. \nPlease RSVP by 3pm Wednesday 2 July 2025. \n
URL:https://www.sheppartonchamber.com.au/events/greater-shepparton-business-festival-launch-event/
LOCATION:Victoria\, Australia
CATEGORIES:Networking
ATTACH;FMTTYPE=image/png:https://www.sheppartonchamber.com.au/wp-content/uploads/2025/06/Social-Tile-Launch-Event.png
ORGANIZER;CN="Greater%20Shepparton%20Business%20Network":MAILTO:admin@gsbn.net.au
END:VEVENT
END:VCALENDAR