BEGIN:VCALENDAR
VERSION:2.0
PRODID:-//Greater Shepparton Business Network - ECPv5.0.3.1//NONSGML v1.0//EN
CALSCALE:GREGORIAN
METHOD:PUBLISH
X-WR-CALNAME:Greater Shepparton Business Network
X-ORIGINAL-URL:https://www.sheppartonchamber.com.au
X-WR-CALDESC:Events for Greater Shepparton Business Network
BEGIN:VTIMEZONE
TZID:Australia/Melbourne
BEGIN:STANDARD
TZOFFSETFROM:+1100
TZOFFSETTO:+1000
TZNAME:AEST
DTSTART:20260404T160000
END:STANDARD
BEGIN:DAYLIGHT
TZOFFSETFROM:+1000
TZOFFSETTO:+1100
TZNAME:AEDT
DTSTART:20261003T160000
END:DAYLIGHT
END:VTIMEZONE
BEGIN:VEVENT
DTSTART;TZID=Australia/Melbourne:20260422T173000
DTEND;TZID=Australia/Melbourne:20260422T193000
DTSTAMP:20260421T090015
CREATED:20260225T052557Z
LAST-MODIFIED:20260331T221109Z
UID:5841-1776879000-1776886200@www.sheppartonchamber.com.au
SUMMARY:April After 5 Networking Event hosted by Commonwealth Bank Australia
DESCRIPTION:The Greater Shepparton Business Network is pleased to invite members and guests to its next After 5 Networking Event\, proudly hosted by Commonwealth Bank Australia (CommBank). \nAs one of Australia’s leading financial institutions and a long‑standing supporter of regional and local businesses\, CommBank is delighted to host an evening dedicated to meaningful connection\, collaboration and shared insight within the Greater Shepparton business community. \nFor more than 100 years\, CommBank has partnered with businesses of all sizes—supporting growth\, innovation and long‑term regional prosperity. With a strong local presence in the Goulburn Valley\, CommBank’s dedicated team continues to deliver tailored financial solutions and trusted advice to help businesses navigate an evolving economic environment. \nThis event provides an opportunity to connect with CommBank’s local business banking team\, learn more about their services\, and gain insights into how technology\, risk management and personalised strategies are supporting organisations to grow with confidence. \nGuests are invited to enjoy relaxed networking\, light refreshments and the chance to strengthen relationships with fellow business leaders and professionals across the region. \nEvent Details \nDate: 22 April 2026 \nTime: 5:30pm – 7:30pm \nLocation:  Multifunction Room\, Level 4\, Shepparton Art Museum\, 530 Wyndham Street\, Shepparton \nImportant Note: \nTo help us keep things running smoothly\, please register selecting the right ticket type. Our Admin Team will follow up if needed. \nLight refreshments will be provided. \n👉 Secure your place today: register now \nPlease RSVP by 10:30am Monday 20 April 2026 \n\n
URL:https://www.sheppartonchamber.com.au/events/april-after-5-networking-event-hosted-by-commonwealth-bank/
LOCATION:Victoria\, Australia
CATEGORIES:Networking
ATTACH;FMTTYPE=image/png:https://www.sheppartonchamber.com.au/wp-content/uploads/2026/02/April-After-5-CBA.png
ORGANIZER;CN="Greater%20Shepparton%20Business%20Network":MAILTO:admin@gsbn.net.au
END:VEVENT
END:VCALENDAR