BEGIN:VCALENDAR
VERSION:2.0
PRODID:-//Greater Shepparton Business Network - ECPv5.0.3.1//NONSGML v1.0//EN
CALSCALE:GREGORIAN
METHOD:PUBLISH
X-WR-CALNAME:Greater Shepparton Business Network
X-ORIGINAL-URL:https://www.sheppartonchamber.com.au
X-WR-CALDESC:Events for Greater Shepparton Business Network
BEGIN:VTIMEZONE
TZID:Australia/Melbourne
BEGIN:STANDARD
TZOFFSETFROM:+1100
TZOFFSETTO:+1000
TZNAME:AEST
DTSTART:20250405T160000
END:STANDARD
BEGIN:DAYLIGHT
TZOFFSETFROM:+1000
TZOFFSETTO:+1100
TZNAME:AEDT
DTSTART:20251004T160000
END:DAYLIGHT
END:VTIMEZONE
BEGIN:VEVENT
DTSTART;TZID=Australia/Melbourne:20251124T173000
DTEND;TZID=Australia/Melbourne:20251124T180000
DTSTAMP:20260421T172435
CREATED:20251001T065115Z
LAST-MODIFIED:20251105T060047Z
UID:5684-1764005400-1764007200@www.sheppartonchamber.com.au
SUMMARY:Annual General Meeting
DESCRIPTION:Join Us for the GSBN Annual General Meeting! \nWhen: Wednesday\, 24 November 2025\, 5:30 PM \nThe Greater Shepparton Business Network invites all members and guests to attend our 2025 Annual General Meeting. This is your opportunity to hear about this year’s achievements\, gain insights into GSBN’s activities\, and learn about our exciting plans for 2026! \nFor more information and to register please email admin@gsbn.net.au or call us on 0407 503 886. \nWe hope to see you there! \n
URL:https://www.sheppartonchamber.com.au/events/annual-general-meeting-4/
ATTACH;FMTTYPE=image/jpeg:https://www.sheppartonchamber.com.au/wp-content/uploads/2025/11/488660284_1086079640218262_2254896932128996646_n-1.jpg
ORGANIZER;CN="Greater%20Shepparton%20Business%20Network":MAILTO:admin@gsbn.net.au
END:VEVENT
END:VCALENDAR