BEGIN:VCALENDAR
VERSION:2.0
PRODID:-//Greater Shepparton Business Network - ECPv5.0.3.1//NONSGML v1.0//EN
CALSCALE:GREGORIAN
METHOD:PUBLISH
X-WR-CALNAME:Greater Shepparton Business Network
X-ORIGINAL-URL:https://www.sheppartonchamber.com.au
X-WR-CALDESC:Events for Greater Shepparton Business Network
BEGIN:VTIMEZONE
TZID:Australia/Melbourne
BEGIN:STANDARD
TZOFFSETFROM:+1100
TZOFFSETTO:+1000
TZNAME:AEST
DTSTART:20240406T160000
END:STANDARD
BEGIN:DAYLIGHT
TZOFFSETFROM:+1000
TZOFFSETTO:+1100
TZNAME:AEDT
DTSTART:20241005T160000
END:DAYLIGHT
END:VTIMEZONE
BEGIN:VEVENT
DTSTART;TZID=Australia/Melbourne:20240619T173000
DTEND;TZID=Australia/Melbourne:20240619T193000
DTSTAMP:20260422T031549
CREATED:20240320T033321Z
LAST-MODIFIED:20240522T044922Z
UID:3511-1718818200-1718825400@www.sheppartonchamber.com.au
SUMMARY:June After 5 Networking Event hosted by OPTUS
DESCRIPTION:Unwind after a long day and expand your business network\, at our June After 5 Networking event hosted by SPC Business Excellence Awards Sponsor\, OPTUS. \nGSBN Networking Events are a great way to collaborate\, innovate\, and bring people together in a relaxing environment\, this event is your chance to extend\nyour professional network and discover some of the services OPTUS has in store over a casual drink and delicious food. \nDon’t miss out on the chance to engage and connect with other business minded people in our local community. \nTickets are limited to 2 per Membership. Registration is essential. \nWhere:    Noble Monks\, 120-126 Maude Street\, Shepparton \nWhen:     19 June\, 2024 from 5:30pm \nRegister here  \n  \n
URL:https://www.sheppartonchamber.com.au/events/after-5-networking-event-hosted-by-optus/
CATEGORIES:GSBN,Networking
ORGANIZER;CN="Greater%20Shepparton%20Business%20Network":MAILTO:admin@gsbn.net.au
END:VEVENT
END:VCALENDAR