BEGIN:VCALENDAR
VERSION:2.0
PRODID:-//Greater Shepparton Business Network - ECPv5.0.3.1//NONSGML v1.0//EN
CALSCALE:GREGORIAN
METHOD:PUBLISH
X-WR-CALNAME:Greater Shepparton Business Network
X-ORIGINAL-URL:https://www.sheppartonchamber.com.au
X-WR-CALDESC:Events for Greater Shepparton Business Network
BEGIN:VTIMEZONE
TZID:Australia/Melbourne
BEGIN:STANDARD
TZOFFSETFROM:+1100
TZOFFSETTO:+1000
TZNAME:AEST
DTSTART:20240406T160000
END:STANDARD
BEGIN:DAYLIGHT
TZOFFSETFROM:+1000
TZOFFSETTO:+1100
TZNAME:AEDT
DTSTART:20241005T160000
END:DAYLIGHT
END:VTIMEZONE
BEGIN:VEVENT
DTSTART;TZID=Australia/Melbourne:20240821T173000
DTEND;TZID=Australia/Melbourne:20240821T193000
DTSTAMP:20260422T013535
CREATED:20240708T084317Z
LAST-MODIFIED:20240805T153043Z
UID:3982-1724261400-1724268600@www.sheppartonchamber.com.au
SUMMARY:Greater Shepparton's 2024 SPC Business Excellence Awards Launch Event
DESCRIPTION:Join the Greater Shepparton Business Network together with Naming Rights Sponsor SPC at our August After 5 Networking Event as we launch the 2024 Greater Shepparton SPC Business Excellence Awards and introduce you to the sponsors of this year’s Awards. \nGreater Shepparton’s SPC Business Excellence Awards showcase and celebrate the achievements and excellence of our local businesses across various sectors and industries and the amazing diversity of business within the Greater Shepparton Region. \nAttendees will learn more about the 2024 Award Categories\, Sponsors as well as the process for submitting entries\, how to enter your business and Gala Dinner Presentation night details! \nDrinks and light refreshments will be provided\, each business is limited to two tickets. \nDate:     Wednesday 21 August\, 2024 \nTime:     5:30pm – 7:30pm \nVenue:  SPC Corboy Room\, Andrew Fairley Avenue\, Shepparton \nRSVP:   Friday 16 August\, 2024 \nLimited tickets available\, secure your tickets today. \nTo Register:  https://wavecrm.com.au/event/01J2DBSXK6YAJXE3FVG932MF22 \nFor further information please phone Tracy or Kyra on 0407 503 886 or email: admin@gsbn.net.au \n  \n
URL:https://www.sheppartonchamber.com.au/events/2024-spc-business-excellence-awards-launch/
LOCATION:SPC Corboy Room\, Andrew Fairley Avenue\, Shepparton\, Andrew Fairley Avenue\, Shepparton\, vic\, 3630\, Australia
CATEGORIES:GSBN,Networking
ORGANIZER;CN="Greater%20Shepparton%20Business%20Network":MAILTO:admin@gsbn.net.au
END:VEVENT
END:VCALENDAR